BEGIN:VCALENDAR
VERSION:2.0
PRODID:-//ChamberMaster//Event Calendar 2.0//EN
METHOD:PUBLISH
X-PUBLISHED-TTL:P3D
REFRESH-INTERVAL:P3D
CALSCALE:GREGORIAN
BEGIN:VEVENT
DTSTART:20240627T130000Z
DTEND:20240627T140000Z
X-MICROSOFT-CDO-ALLDAYEVENT:FALSE
SUMMARY:Coffee\, Community & Connection
DESCRIPTION:Workforce Development \n\nPresenters include:  Kevin Comerford from CAF and a Lisa Daugherty from Center for Workforce Innovation\n\nModerator:  Ryan Peterson with Chicago Title
X-ALT-DESC;FMTTYPE=text/html:Workforce Development&nbsp\;<br />\nPresenters include:&nbsp\; Kevin Comerford from CAF and a Lisa Daugherty from Center for Workforce Innovation<br />\nModerator:&nbsp\; Ryan Peterson with Chicago Title
LOCATION:Dean & Barbara White Community Center 6600 Broadway Merrillville\, IN
UID:e.897.5503
SEQUENCE:3
DTSTAMP:20260421T040429Z
URL:https://members.crossroadschamber.org/events/details/coffee-community-connection-5503
END:VEVENT

END:VCALENDAR
