BEGIN:VCALENDAR
VERSION:2.0
PRODID:-//ChamberMaster//Event Calendar 2.0//EN
METHOD:PUBLISH
X-PUBLISHED-TTL:P3D
REFRESH-INTERVAL:P3D
CALSCALE:GREGORIAN
BEGIN:VEVENT
DTSTART:20240725T130000Z
DTEND:20240725T140000Z
X-MICROSOFT-CDO-ALLDAYEVENT:FALSE
SUMMARY:Coffee\, Community & Connection
DESCRIPTION:Small Business Owner Resources\n\nEric Beschinski\, Business Advisor and Ecosystem Navigator with Indiana Small Business Development Center\n\nDonna Catalano\, Outreach and Engagement Manager\, Legacy Foundation NWI BizHub
X-ALT-DESC;FMTTYPE=text/html:Small Business Owner Resources<br />\nEric Beschinski\, Business Advisor and Ecosystem Navigator with Indiana Small Business Development Center<br />\nDonna Catalano\, Outreach and Engagement Manager\, Legacy Foundation NWI BizHub
LOCATION:Dean & Barbara White Community Center 6600 Broadway Merrillville\, IN
UID:e.897.5504
SEQUENCE:3
DTSTAMP:20260421T021930Z
URL:https://members.crossroadschamber.org/events/details/coffee-community-connection-5504
END:VEVENT

END:VCALENDAR
