BEGIN:VCALENDAR
VERSION:2.0
PRODID:-//ChamberMaster//Event Calendar 2.0//EN
METHOD:PUBLISH
X-PUBLISHED-TTL:P3D
REFRESH-INTERVAL:P3D
CALSCALE:GREGORIAN
BEGIN:VEVENT
DTSTART:20240822T130000Z
DTEND:20240822T140000Z
X-MICROSOFT-CDO-ALLDAYEVENT:FALSE
SUMMARY:Coffee\, Community & Connection
DESCRIPTION:Safety Awareness in and out of the Workplace\n\nNeko Zairis: M.P.A.\, A.S.I.\, D.T.I.  Active Threat Assessment/De-Escalation Training\n\nJason Besse\, Shift Commander with Merrillville Police Department\n\nSandy Riggle\, Human Resource Manager with Alberts Diamond Jewelers
X-ALT-DESC;FMTTYPE=text/html:Safety Awareness in and out of the Workplace<br />\nNeko Zairis: M.P.A.\, A.S.I.\, D.T.I.&nbsp\; Active Threat Assessment/De-Escalation Training<br />\nJason Besse\, Shift Commander with Merrillville Police Department<br />\nSandy Riggle\, Human Resource Manager with Alberts Diamond Jewelers<br />\n&nbsp\;
LOCATION:Dean & Barbara White Community Center 6600 Broadway Merrillville\, IN
UID:e.897.5505
SEQUENCE:3
DTSTAMP:20260421T004250Z
URL:https://members.crossroadschamber.org/events/details/coffee-community-connection-5505
END:VEVENT

END:VCALENDAR
