BEGIN:VCALENDAR
VERSION:2.0
PRODID:-//ChamberMaster//Event Calendar 2.0//EN
METHOD:PUBLISH
X-PUBLISHED-TTL:P3D
REFRESH-INTERVAL:P3D
CALSCALE:GREGORIAN
BEGIN:VEVENT
DTSTART:20240926T130000Z
DTEND:20240926T140000Z
X-MICROSOFT-CDO-ALLDAYEVENT:FALSE
SUMMARY:Coffee\, Community & Connection
DESCRIPTION:Dr. Micah Pollak\, Associate Dean and Associate Professor of Economics with Indiana University Northwest in the School of Business and Economics
X-ALT-DESC;FMTTYPE=text/html:<span style="font-family:aptos\,sans-serif\;"><span style="font-size:11.0pt\;">Dr. Micah Pollak\, Associate Dean and Associate Professor of Economics with Indiana University Northwest in the School of Business and Economics&nbsp\;</span></span>
LOCATION:Dean & Barbara White Community Center 6600 Broadway Merrillville\, IN
UID:e.897.5506
SEQUENCE:3
DTSTAMP:20260420T212148Z
URL:https://members.crossroadschamber.org/events/details/coffee-community-connection-5506
END:VEVENT

END:VCALENDAR
