BEGIN:VCALENDAR
VERSION:2.0
PRODID:-//ChamberMaster//Event Calendar 2.0//EN
METHOD:PUBLISH
X-PUBLISHED-TTL:P3D
REFRESH-INTERVAL:P3D
CALSCALE:GREGORIAN
BEGIN:VEVENT
DTSTART:20241024T130000Z
DTEND:20241024T140000Z
X-MICROSOFT-CDO-ALLDAYEVENT:FALSE
SUMMARY:Coffee\, Community & Connection
DESCRIPTION:Municipality Outlook\n\nMichael Lambert\, Winfield Clerk-Treasurer\n\nMayor Josh Huddlestun of Hobart
X-ALT-DESC;FMTTYPE=text/html:Municipality Outlook<br />\nMichael Lambert\, Winfield Clerk-Treasurer<br />\nMayor Josh Huddlestun of Hobart
LOCATION:Dean & Barbara White Community Center 6600 Broadway Merrillville\, IN
UID:e.897.5507
SEQUENCE:3
DTSTAMP:20260420T180903Z
URL:https://members.crossroadschamber.org/events/details/coffee-community-connection-5507
END:VEVENT

END:VCALENDAR
