BEGIN:VCALENDAR
VERSION:2.0
PRODID:-//ChamberMaster//Event Calendar 2.0//EN
METHOD:PUBLISH
X-PUBLISHED-TTL:P3D
REFRESH-INTERVAL:P3D
CALSCALE:GREGORIAN
BEGIN:VEVENT
DTSTART:20250424T130000Z
DTEND:20250424T140000Z
X-MICROSOFT-CDO-ALLDAYEVENT:FALSE
SUMMARY:Coffee\, Community & Connection
DESCRIPTION:How to Grow  Your Business with Matt Scheuer from Purdue Federal Credit Union and Chrissy Banter Fidelity National Title
X-ALT-DESC;FMTTYPE=text/html:How to Grow&nbsp\; Your Business with Matt Scheuer from Purdue Federal Credit Union and Chrissy Banter Fidelity National Title<br />\n&nbsp\;
LOCATION:Dean & Barbara White Community Center 6600 Broadway Merrillville\, IN
UID:e.897.6594
SEQUENCE:3
DTSTAMP:20260420T083157Z
URL:https://members.crossroadschamber.org/events/details/coffee-community-connection-6594
END:VEVENT

END:VCALENDAR
