BEGIN:VCALENDAR
VERSION:2.0
PRODID:-//ChamberMaster//Event Calendar 2.0//EN
METHOD:PUBLISH
X-PUBLISHED-TTL:P3D
REFRESH-INTERVAL:P3D
CALSCALE:GREGORIAN
BEGIN:VEVENT
DTSTART:20250724T130000Z
DTEND:20250724T140000Z
X-MICROSOFT-CDO-ALLDAYEVENT:FALSE
SUMMARY:Coffee\, Community & Connection
DESCRIPTION:How Childcare Impacts Your Business with Lisa Daugherty with Center for Workforce Innovation and Ken Knuppel with Geminus Corporation
X-ALT-DESC;FMTTYPE=text/html:How Childcare Impacts Your Business with Lisa Daugherty with Center for Workforce Innovation and Ken Knuppel with Geminus Corporation&nbsp\;
LOCATION:Dean & Barbara White Community Center 6600 Broadway Merrillville\, IN
UID:e.897.6597
SEQUENCE:3
DTSTAMP:20260420T030952Z
URL:https://members.crossroadschamber.org/events/details/coffee-community-connection-6597
END:VEVENT

END:VCALENDAR
