BEGIN:VCALENDAR
VERSION:2.0
PRODID:-//ChamberMaster//Event Calendar 2.0//EN
METHOD:PUBLISH
X-PUBLISHED-TTL:P3D
REFRESH-INTERVAL:P3D
CALSCALE:GREGORIAN
BEGIN:VEVENT
DTSTART:20250828T130000Z
DTEND:20250828T140000Z
X-MICROSOFT-CDO-ALLDAYEVENT:FALSE
SUMMARY:Coffee\, Community & Connection
DESCRIPTION:Mayor Melton from the City of Gary will give us updates on everything happening in Gary
X-ALT-DESC;FMTTYPE=text/html:Mayor Melton from the City of Gary will give us updates on everything happening in Gary
LOCATION:Dean & Barbara White Community Center 6600 Broadway Merrillville\, IN
UID:e.897.6598
SEQUENCE:3
DTSTAMP:20260420T011441Z
URL:https://members.crossroadschamber.org/events/details/coffee-community-connection-6598
END:VEVENT

END:VCALENDAR
