BEGIN:VCALENDAR
VERSION:2.0
PRODID:-//ChamberMaster//Event Calendar 2.0//EN
METHOD:PUBLISH
X-PUBLISHED-TTL:P3D
REFRESH-INTERVAL:P3D
CALSCALE:GREGORIAN
BEGIN:VEVENT
DTSTART:20210722T124500Z
DTEND:20210722T140000Z
X-MICROSOFT-CDO-ALLDAYEVENT:FALSE
SUMMARY:Coffee\, Community & Connection Marketing Panel
DESCRIPTION:Join us and our marketing panel as we discuss "Growing Your Business".\n\n \nCoffee\, Community & Connection will be offering everyone a chance to introduce themselves prior to the speaker.\n\n\n\nWe are also offering a $200 sponsorship opportunity. The sponsor will have their logo on all pre-advertising\, have a one-minute presentation\, introduce the speaker\, and provide marketing materials at the event. \n\n\n\nJuly's Coffee\, Community & Connection is Sponsored by: JRS MAR/COM
X-ALT-DESC;FMTTYPE=text/html:<div><span style="color: rgb(64\, 63\, 66)\; font-family: Arial\, Verdana\, Helvetica\, sans-serif\; font-size: 14px\; background-color: rgb(255\, 255\, 255)\;">Join us and our marketing panel as we discuss &quot\;Growing Your Business&quot\;.</span></div>\n\n<div>&nbsp\;</div>\n<span style="color: rgb(64\, 63\, 66)\; font-family: Arial\, Verdana\, Helvetica\, sans-serif\; font-size: 14px\; background-color: rgb(255\, 255\, 255)\;">Coffee\, Community &amp\; Connection will be offering everyone a chance to introduce themselves prior to the speaker.</span><br style="color: rgb(64\, 63\, 66)\; font-family: Arial\, Verdana\, Helvetica\, sans-serif\; font-size: 14px\;" />\n<br style="color: rgb(64\, 63\, 66)\; font-family: Arial\, Verdana\, Helvetica\, sans-serif\; font-size: 14px\;" />\n<span style="color: rgb(64\, 63\, 66)\; font-family: Arial\, Verdana\, Helvetica\, sans-serif\; font-size: 14px\; background-color: rgb(255\, 255\, 255)\;">We are also offering a $200 sponsorship opportunity. The sponsor will have their logo on all pre-advertising\, have a one-minute presentation\, introduce the speaker\, and provide marketing materials at the event.&nbsp\;</span><br style="color: rgb(64\, 63\, 66)\; font-family: Arial\, Verdana\, Helvetica\, sans-serif\; font-size: 14px\;" />\n<br style="color: rgb(64\, 63\, 66)\; font-family: Arial\, Verdana\, Helvetica\, sans-serif\; font-size: 14px\;" />\n<span style="color: rgb(64\, 63\, 66)\; font-family: Arial\, Verdana\, Helvetica\, sans-serif\; font-size: 14px\; background-color: rgb(255\, 255\, 255)\;">July&#39\;s Coffee\, Community &amp\; Connection is Sponsored by: JRS MAR/COM</span>
LOCATION:Crossroads Regional Chamber of Commerce 440 West 84th Drive\, Merrillville Downstairs in the Laszlo & Popp Community Room
UID:e.897.4397
SEQUENCE:3
DTSTAMP:20260425T171250Z
URL:https://members.crossroadschamber.org/events/details/coffee-community-connection-marketing-panel-4397
END:VEVENT

END:VCALENDAR
