BEGIN:VCALENDAR
VERSION:2.0
PRODID:-//ChamberMaster//Event Calendar 2.0//EN
METHOD:PUBLISH
X-PUBLISHED-TTL:P3D
REFRESH-INTERVAL:P3D
CALSCALE:GREGORIAN
BEGIN:VEVENT
DTSTART:20210624T124500Z
DTEND:20210624T140000Z
X-MICROSOFT-CDO-ALLDAYEVENT:FALSE
SUMMARY:Coffee\, Community & Connection Succession Planning
DESCRIPTION:Succession Planning for a Family Business\n\n\n\nThomas Krafft is a Certified Public Accountant and Business Broker servicing medium sized business clients and their families in the Northwest Indiana area.  He has been a frequent lecturer on all aspects of running a successful business.\n\n \n\nWhat you will learn:\n\n	The Selling Process.\n	Is your business ready to sell?\n	What is your business worth?\n	How to maximize the value of your business\n	Minimizing your income tax burden\n\n Coffee\, Community & Connection will be offering everyone a chance to introduce themselves prior to the speaker.\n\n\n\nWe are also offering a $200 sponsorship opportunity. The sponsor will have their logo on all pre-advertising\, have a one-minute presentation\, introduce the speaker\, and provide marketing materials at the event. \n\n\n\nJune's Coffee\, Community & Connection is Sponsored by: Krafft and Company\, PC\, CPA
X-ALT-DESC;FMTTYPE=text/html:<span style="color:#000000\;"><span style="font-size:14px\;"><span style="font-family:arial\;">Succession Planning for a Family Business<br />\n<br />\nThomas Krafft is a Certified Public Accountant and Business Broker servicing medium sized business clients and their families in the Northwest Indiana area.&nbsp\; He has been a frequent lecturer on all aspects of running a successful business.<br />\n&nbsp\;<br />\nWhat you will learn:</span></span></span>\n<ul>\n	<li style="margin-left:0in\;"><span style="color:#000000\;"><span style="font-size:14px\;"><span style="font-family:arial\;">The Selling Process.</span></span></span></li>\n	<li style="margin-left:0in\;"><span style="color:#000000\;"><span style="font-size:14px\;"><span style="font-family:arial\;">Is your business ready to sell?</span></span></span></li>\n	<li style="margin-left:0in\;"><span style="color:#000000\;"><span style="font-size:14px\;"><span style="font-family:arial\;">What is your business worth?</span></span></span></li>\n	<li style="margin-left:0in\;"><span style="color:#000000\;"><span style="font-size:14px\;"><span style="font-family:arial\;">How to maximize the value of your business</span></span></span></li>\n	<li style="margin-left:0in\;"><span style="color:#000000\;"><span style="font-size:14px\;"><span style="font-family:arial\;">Minimizing your income tax burden</span></span></span></li>\n</ul>\n<span style="color:#000000\;"> <span style="font-family: Arial\, Verdana\, Helvetica\, sans-serif\; font-size: 14px\; background-color: rgb(255\, 255\, 255)\;">Coffee\, Community &amp\; Connection will be offering everyone a chance to introduce themselves prior to the speaker.</span><br style="color: rgb(64\, 63\, 66)\; font-family: Arial\, Verdana\, Helvetica\, sans-serif\; font-size: 14px\;" />\n<br style="color: rgb(64\, 63\, 66)\; font-family: Arial\, Verdana\, Helvetica\, sans-serif\; font-size: 14px\;" />\n<span style="font-family: Arial\, Verdana\, Helvetica\, sans-serif\; font-size: 14px\; background-color: rgb(255\, 255\, 255)\;">We are also offering a $200 sponsorship opportunity. The sponsor will have their logo on all pre-advertising\, have a one-minute presentation\, introduce the speaker\, and provide marketing materials at the event.&nbsp\;</span><br style="color: rgb(64\, 63\, 66)\; font-family: Arial\, Verdana\, Helvetica\, sans-serif\; font-size: 14px\;" />\n<br style="color: rgb(64\, 63\, 66)\; font-family: Arial\, Verdana\, Helvetica\, sans-serif\; font-size: 14px\;" />\n<span style="font-family: Arial\, Verdana\, Helvetica\, sans-serif\; font-size: 14px\; background-color: rgb(255\, 255\, 255)\;">June&#39\;s Coffee\, Community &amp\; Connection is Sponsored by: Krafft and Company\, PC\, CPA</span></span>
LOCATION:Crossroads Regional Chamber of Commerce 440 West 84th Drive\, Merrillville Downstairs in the Laszlo & Popp Community Room
UID:e.897.4396
SEQUENCE:3
DTSTAMP:20260425T190756Z
URL:https://members.crossroadschamber.org/events/details/coffee-community-connection-succession-planning-4396
END:VEVENT

END:VCALENDAR
