BEGIN:VCALENDAR
VERSION:2.0
PRODID:-//ChamberMaster//Event Calendar 2.0//EN
METHOD:PUBLISH
X-PUBLISHED-TTL:P3D
REFRESH-INTERVAL:P3D
CALSCALE:GREGORIAN
BEGIN:VEVENT
DTSTART:20210527T124500Z
DTEND:20210527T140000Z
X-MICROSOFT-CDO-ALLDAYEVENT:FALSE
SUMMARY:Coffee\, Community & Connection with Erica Dombey
DESCRIPTION:Hear how the SBA 504 Loan Program can help business owners finance their owner-occupied commercial real estate with 10% down and a 25-year fixed interest rate of 3%. We also offer a debt refinance program for those looking to get cash out of their property and re-amortized the debt to lower monthly payments.\n\n\n\nCoffee\, Community & Connection will be offering everyone a chance to introduce themselves prior to the speaker.\n\n\n\nWe are also offering a $200 sponsorship opportunity. The sponsor will have their logo on all pre-advertising\, have a one-minute presentation\, introduce the speaker\, and provide marketing materials at the event. \n\n\n\nMay's Coffee\, Community & Connection is Sponsored by: WestPoint Financial Group
X-ALT-DESC;FMTTYPE=text/html:<span style="color: rgb(64\, 63\, 66)\; font-family: Arial\, Verdana\, Helvetica\, sans-serif\; font-size: 14px\; background-color: rgb(255\, 255\, 255)\;">Hear how the SBA 504 Loan Program can help business owners finance their owner-occupied commercial real estate with 10% down and a 25-year fixed interest rate of 3%.&nbsp\;We also offer a debt refinance program for those looking to get cash out of their property and re-amortized the debt to lower monthly payments.<br />\n<br />\nCoffee\, Community &amp\; Connection will be offering everyone a chance to introduce themselves prior to the speaker.<br />\n<br />\nWe are also offering a $200 sponsorship opportunity. The sponsor will have their logo on all pre-advertising\, have a one-minute presentation\, introduce the speaker\, and provide marketing materials at the event.&nbsp\;<br />\n<br />\nMay&#39\;s Coffee\, Community &amp\; Connection is Sponsored by: WestPoint Financial Group</span>
LOCATION:Crossroads Regional Chamber of Commerce 440 West 84th Drive\, Merrillville Downstairs in the Laszlo & Popp Community Room
UID:e.897.4395
SEQUENCE:3
DTSTAMP:20260425T204656Z
URL:https://members.crossroadschamber.org/events/details/coffee-community-connection-with-erica-dombey-4395
END:VEVENT

END:VCALENDAR
