BEGIN:VCALENDAR
VERSION:2.0
PRODID:-//ChamberMaster//Event Calendar 2.0//EN
METHOD:PUBLISH
X-PUBLISHED-TTL:P3D
REFRESH-INTERVAL:P3D
CALSCALE:GREGORIAN
BEGIN:VEVENT
DTSTART:20210225T140000Z
DTEND:20210225T150000Z
X-MICROSOFT-CDO-ALLDAYEVENT:FALSE
SUMMARY:Coffee\, Community & Connection with Jennifer Connelly\, Life Coach
DESCRIPTION:Coaching Isn't Only for Athletes: Optimize Performance & Increase Well-Being in Leadership and in Life\n\nAt this Coffee\, Community & Conversation\, hear personal stories of the impact of coaching and explore practices in a lively and fun session with certified coach\, Jennifer Connelly. In leadership and life coaching\, the desired outcomes vary from client to client\, given their own personal goals and concerns. Possible outcomes include a better understanding of your impact on others and the results you are trying to attain\, better relationships with others\, more effective coordination of action\, practices and strategies for being a more effective leader\, and greater well-being and personal satisfaction\, just to name a few. Leave the session with a refreshed perspective on your own personal goals and aspirations.
X-ALT-DESC;FMTTYPE=text/html:<strong><span style="color:#434343\;"><span style="font-family:arial\,sans-serif\;">Coaching Isn&rsquo\;t Only for Athletes: Optimize Performance &amp\; Increase Well-Being in Leadership and in Life</span></span></strong><br />\n<span style="color:#434343\;"><span style="font-family:arial\,sans-serif\;">At this Coffee\, Community &amp\; Conversation\, hear personal stories of the impact of coaching and explore practices in a lively and fun session with certified coach\, Jennifer Connelly. In leadership and life coaching\, the desired outcomes vary from client to client\, given their own personal goals and concerns. Possible outcomes include a better understanding of your impact on others and the results you are trying to attain\, better relationships with others\, more effective coordination of action\, practices and strategies for being a more effective leader\, and greater well-being and personal satisfaction\, just to name a few. Leave the session with a refreshed perspective on your own personal goals and aspirations.</span></span><br />\n&nbsp\;
LOCATION:Zoom Please click this URL to join. https://us02web.zoom.us/j/81984820164?pwd=a1JVRktpQzc5UkY4L2owdklOcUlxdz09 Passcode: 078798 Description: Coaching Isn't Only for Athletes: Optimize Performance & Increase Well-Being in Leadership and in Life with Jennifer Connelly Or join by phone: Dial: US: 312- 626- 6799 Webinar ID: 819 8482 0164 Passcode: 078798
UID:e.897.4385
SEQUENCE:3
DTSTAMP:20260426T015431Z
URL:https://members.crossroadschamber.org/events/details/coffee-community-connection-with-jennifer-connelly-life-coach-4385
END:VEVENT

END:VCALENDAR
