BEGIN:VCALENDAR
VERSION:2.0
PRODID:-//ChamberMaster//Event Calendar 2.0//EN
METHOD:PUBLISH
X-PUBLISHED-TTL:P3D
REFRESH-INTERVAL:P3D
CALSCALE:GREGORIAN
BEGIN:VEVENT
DTSTART:20210128T140000Z
DTEND:20210128T150000Z
X-MICROSOFT-CDO-ALLDAYEVENT:FALSE
SUMMARY:Coffee\, Community & Connection with Karen Lauerman\, LCEA
DESCRIPTION:Karen Lauerman\, President\, Lake County Economic Alliance
X-ALT-DESC;FMTTYPE=text/html:Karen Lauerman\, President\, Lake County Economic Alliance
LOCATION:Zoom Join Zoom Meeting https://us02web.zoom.us/j/88903507197?pwd=SW5QUmF0dnRnMlRmY21McXBBTjJTQT09 Meeting ID: 889 0350 7197 Passcode: 995533 Dial by your location +1 312 626 6799 US (Chicago) Meeting ID: 889 0350 7197 Passcode: 995533
UID:e.897.4383
SEQUENCE:3
DTSTAMP:20260426T040449Z
URL:https://members.crossroadschamber.org/events/details/coffee-community-connection-with-karen-lauerman-lcea-4383
END:VEVENT

END:VCALENDAR
