BEGIN:VCALENDAR
VERSION:2.0
PRODID:-//ChamberMaster//Event Calendar 2.0//EN
METHOD:PUBLISH
X-PUBLISHED-TTL:P3D
REFRESH-INTERVAL:P3D
CALSCALE:GREGORIAN
BEGIN:VEVENT
DTSTART:20210325T130000Z
DTEND:20210325T140000Z
X-MICROSOFT-CDO-ALLDAYEVENT:FALSE
SUMMARY:Coffee\, Community & Connection with Lorri Feldt
DESCRIPTION:Lorri Feldt\, Regional Director of Northwest Indiana Small Business Development Center
X-ALT-DESC;FMTTYPE=text/html:Lorri Feldt\, Regional Director of Northwest Indiana Small Business Development Center
LOCATION:Via zoom Join Zoom Meeting https://us02web.zoom.us/j/85263202177?pwd=MHhVaVRFa0tIbnJsNzJFUVdIUmxKdz09 Meeting ID: 852 6320 2177 Passcode: 991995 +1 312 626 6799 US (Chicago) Meeting ID: 852 6320 2177 Passcode: 991995
UID:e.897.4386
SEQUENCE:3
DTSTAMP:20260426T001654Z
URL:https://members.crossroadschamber.org/events/details/coffee-community-connection-with-lorri-feldt-4386
END:VEVENT

END:VCALENDAR
