BEGIN:VCALENDAR
VERSION:2.0
PRODID:-//ChamberMaster//Event Calendar 2.0//EN
METHOD:PUBLISH
X-PUBLISHED-TTL:P3D
REFRESH-INTERVAL:P3D
CALSCALE:GREGORIAN
BEGIN:VEVENT
DTSTART:20260226T140000Z
DTEND:20260226T150000Z
X-MICROSOFT-CDO-ALLDAYEVENT:FALSE
SUMMARY:Coffee\, Community & Connections
DESCRIPTION:Coffee\, Community & Connections\n\nJoin us for coffee\, networking and hot topic presentation on Work Life Balance with Tamara Jercha from All-Ways Designs Life Coaching and Yoga Instructor Shannon Swanson.
X-ALT-DESC;FMTTYPE=text/html:Coffee\, Community &amp\; Connections<br />\nJoin us for coffee\, networking and hot topic presentation on Work Life Balance with Tamara Jercha from All-Ways Designs Life Coaching and Yoga Instructor Shannon Swanson.&nbsp\;&nbsp\;
LOCATION:The Dean & Barbara White Community Center 6600 Broadway\, Merrillville\, IN
UID:e.897.7247
SEQUENCE:3
DTSTAMP:20260419T163539Z
URL:https://members.crossroadschamber.org/events/details/coffee-community-connections-02-26-2026-7247
END:VEVENT

END:VCALENDAR
