BEGIN:VCALENDAR
VERSION:2.0
PRODID:-//ChamberMaster//Event Calendar 2.0//EN
METHOD:PUBLISH
X-PUBLISHED-TTL:P3D
REFRESH-INTERVAL:P3D
CALSCALE:GREGORIAN
BEGIN:VEVENT
DTSTART:20260326T130000Z
DTEND:20260326T140000Z
X-MICROSOFT-CDO-ALLDAYEVENT:FALSE
SUMMARY:Coffee\, Community & Connections
DESCRIPTION:Coffee\, Community & Connections \n\nUnderstanding Data Centers with Hobart Mayor Josh Huddlestun and Spencer Summers from NIPSCO  Moderated by Ryan Peterson from Chicago Title.\n\nJoin us for coffee\, networking and hot topic presentation
X-ALT-DESC;FMTTYPE=text/html:Coffee\, Community &amp\; Connections&nbsp\;<br />\nUnderstanding Data Centers with Hobart Mayor Josh Huddlestun and Spencer Summers from NIPSCO&nbsp\; Moderated by Ryan Peterson from Chicago Title.<br />\nJoin us for coffee\, networking and hot topic presentation<br />\n<br />\n&nbsp\;
LOCATION:The Dean & Barbara White Community Center 6600 Broadway\, Merrillville\, IN
UID:e.897.7248
SEQUENCE:3
DTSTAMP:20260419T163539Z
URL:https://members.crossroadschamber.org/events/details/coffee-community-connections-03-26-2026-7248
END:VEVENT

END:VCALENDAR
