BEGIN:VCALENDAR
VERSION:2.0
PRODID:-//ChamberMaster//Event Calendar 2.0//EN
METHOD:PUBLISH
X-PUBLISHED-TTL:P3D
REFRESH-INTERVAL:P3D
CALSCALE:GREGORIAN
BEGIN:VEVENT
DTSTART:20260423T130000Z
DTEND:20260423T140000Z
X-MICROSOFT-CDO-ALLDAYEVENT:FALSE
SUMMARY:Coffee\, Community & Connections
DESCRIPTION:Coffee\, Community & Connections \n\nJoin us for coffee\, networking and a presentation on Business Succession Planning with Attorney Amy VonDielingen\, Partner with Krieg DeVault and Ty Tornincasa\, Financial Advisor with Ty Financial.
X-ALT-DESC;FMTTYPE=text/html:Coffee\, Community &amp\; Connections&nbsp\;<br />\nJoin us for coffee\, networking and a presentation on Business Succession Planning with Attorney Amy VonDielingen\, Partner with Krieg DeVault and Ty Tornincasa\, Financial Advisor with Ty Financial.&nbsp\;&nbsp\;<br />\n<br />\n&nbsp\;
LOCATION:The Dean & Barbara White Community Center 6600 Broadway\, Merrillville\, IN
UID:e.897.7249
SEQUENCE:3
DTSTAMP:20260419T144704Z
URL:https://members.crossroadschamber.org/events/details/coffee-community-connections-04-23-2026-7249
END:VEVENT

END:VCALENDAR
