BEGIN:VCALENDAR
VERSION:2.0
PRODID:-//ChamberMaster//Event Calendar 2.0//EN
METHOD:PUBLISH
X-PUBLISHED-TTL:P3D
REFRESH-INTERVAL:P3D
CALSCALE:GREGORIAN
BEGIN:VEVENT
DTSTART:20260528T130000Z
DTEND:20260528T140000Z
X-MICROSOFT-CDO-ALLDAYEVENT:FALSE
SUMMARY:Coffee\, Community & Connections
DESCRIPTION:Coffee\, Community & Connections:   Trends in Real Estate with Peter Novak from NIRA  and Aaron McDermott from Latitude Commercial Real Estate\n\nJoin us for coffee\, networking and hot topic presentation
X-ALT-DESC;FMTTYPE=text/html:Coffee\, Community &amp\; Connections:&nbsp\;&nbsp\;<span style="color: rgb(51\, 51\, 51)\; font-family: sans-serif\, Arial\, Verdana\, &quot\;Trebuchet MS&quot\;\; font-size: 13px\; background-color: rgb(255\, 255\, 255)\;">&nbsp\;Trends in Real Estate with Peter Novak from NIRA&nbsp\; and Aaron McDermott from Latitude Commercial Real Estate</span><br />\nJoin us for coffee\, networking and hot topic presentation<br />\n<br />\n&nbsp\;
LOCATION:The Dean & Barbara White Community Center 6600 Broadway\, Merrillville\, IN
UID:e.897.7250
SEQUENCE:3
DTSTAMP:20260419T182429Z
URL:https://members.crossroadschamber.org/events/details/coffee-community-connections-05-28-2026-7250
END:VEVENT

END:VCALENDAR
