BEGIN:VCALENDAR
VERSION:2.0
PRODID:-//ChamberMaster//Event Calendar 2.0//EN
METHOD:PUBLISH
X-PUBLISHED-TTL:P3D
REFRESH-INTERVAL:P3D
CALSCALE:GREGORIAN
BEGIN:VEVENT
DTSTART:20260625T130000Z
DTEND:20260625T140000Z
X-MICROSOFT-CDO-ALLDAYEVENT:FALSE
SUMMARY:Coffee\, Community & Connections
DESCRIPTION:Coffee\, Community & Connections\n\nJoin us for coffee\, networking and listen to a presentation by a DEA Agent\, Patty Stovall from Sounds of Sarah and Nancy Townsend\, partner with Krieg DeVault about Narcan & HR Challenges.
X-ALT-DESC;FMTTYPE=text/html:Coffee\, Community &amp\; Connections<br />\nJoin us for coffee\, networking and listen to a presentation by a DEA Agent\, Patty Stovall from Sounds of Sarah and Nancy Townsend\, partner with Krieg DeVault about Narcan &amp\; HR Challenges.&nbsp\;&nbsp\;<br />\n&nbsp\;
LOCATION:The Dean & Barbara White Community Center 6600 Broadway\, Merrillville\, IN
UID:e.897.7251
SEQUENCE:3
DTSTAMP:20260419T200237Z
URL:https://members.crossroadschamber.org/events/details/coffee-community-connections-06-25-2026-7251
END:VEVENT

END:VCALENDAR
