BEGIN:VCALENDAR
VERSION:2.0
PRODID:-//ChamberMaster//Event Calendar 2.0//EN
METHOD:PUBLISH
X-PUBLISHED-TTL:P3D
REFRESH-INTERVAL:P3D
CALSCALE:GREGORIAN
BEGIN:VEVENT
DTSTART:20260723T130000Z
DTEND:20260723T140000Z
X-MICROSOFT-CDO-ALLDAYEVENT:FALSE
SUMMARY:Coffee\, Community & Connections
DESCRIPTION:Coffee\, Community & Connections\n\nJoin us for coffee\, networking and a presentation about Getting Value from your Chamber.  Presenters include\, Andrew Kyres\,  Councilman from the City of Crown Point\,  Shana Robertson\, Fair Haven Rape Crisis Center and Kelly Dooley from Southern Care Hospice.  They will each tell you how they have leveraged their membership over the years to help grow their networks.  In addition\, Andrew will provide help in preparing your elevator pitch
X-ALT-DESC;FMTTYPE=text/html:Coffee\, Community &amp\; Connections<br />\nJoin us for coffee\, networking and a presentation about Getting Value from your Chamber.&nbsp\; Presenters include\, Andrew Kyres\,&nbsp\; Councilman from the City of Crown Point\,&nbsp\; Shana Robertson\, Fair Haven Rape Crisis Center and Kelly Dooley from Southern Care Hospice.&nbsp\; They will each tell you how they have leveraged their membership over the years to help grow their networks.&nbsp\; In addition\, Andrew will provide help in preparing your elevator pitch
LOCATION:The Dean & Barbara White Community Center 6600 Broadway\, Merrillville\, IN
UID:e.897.7252
SEQUENCE:3
DTSTAMP:20260419T202800Z
URL:https://members.crossroadschamber.org/events/details/coffee-community-connections-07-23-2026-7252
END:VEVENT

END:VCALENDAR
