BEGIN:VCALENDAR
VERSION:2.0
PRODID:-//ChamberMaster//Event Calendar 2.0//EN
METHOD:PUBLISH
X-PUBLISHED-TTL:P3D
REFRESH-INTERVAL:P3D
CALSCALE:GREGORIAN
BEGIN:VEVENT
DTSTART:20220324T130000Z
DTEND:20220324T140000Z
X-MICROSOFT-CDO-ALLDAYEVENT:FALSE
SUMMARY:Coffee\, Community & Connections
DESCRIPTION:Guest Speaker: Jackie Primos\, Health and Wellness
X-ALT-DESC;FMTTYPE=text/html:Guest Speaker: Jackie Primos\, Health and Wellness
LOCATION:Crossroads Regional Chamber of Commerce 440 West 84th Drive\, Merrillville\, IN 46410
UID:e.897.4466
SEQUENCE:3
DTSTAMP:20260425T023517Z
URL:https://members.crossroadschamber.org/events/details/coffee-community-connections-4466
END:VEVENT

END:VCALENDAR
