BEGIN:VCALENDAR
VERSION:2.0
PRODID:-//ChamberMaster//Event Calendar 2.0//EN
METHOD:PUBLISH
X-PUBLISHED-TTL:P3D
REFRESH-INTERVAL:P3D
CALSCALE:GREGORIAN
BEGIN:VEVENT
DTSTART:20220728T130000Z
DTEND:20220728T140000Z
X-MICROSOFT-CDO-ALLDAYEVENT:FALSE
SUMMARY:Coffee\, Community & Connections
DESCRIPTION:Guest Speaker will be Celina Weatherwax discussing non-profit sales.
X-ALT-DESC;FMTTYPE=text/html:Guest Speaker will be Celina Weatherwax discussing non-profit sales.
LOCATION:Crossroads Regional Chamber of Commerce 440 West 84th Drive Merrrillville\, IN 46410
UID:e.897.4518
SEQUENCE:3
DTSTAMP:20260424T211147Z
URL:https://members.crossroadschamber.org/events/details/coffee-community-connections-4518
END:VEVENT

END:VCALENDAR
