BEGIN:VCALENDAR
VERSION:2.0
PRODID:-//ChamberMaster//Event Calendar 2.0//EN
METHOD:PUBLISH
X-PUBLISHED-TTL:P3D
REFRESH-INTERVAL:P3D
CALSCALE:GREGORIAN
BEGIN:VEVENT
DTSTART:20221027T130000Z
DTEND:20221027T140000Z
X-MICROSOFT-CDO-ALLDAYEVENT:FALSE
SUMMARY:Coffee\, Community\, & Connections
DESCRIPTION:Leadership Excellence with a Winning Formula to Communicate Powerfully\n\nwith Jennifer H.G. Connelly\, PCC
X-ALT-DESC;FMTTYPE=text/html:<strong><span style="font-family: calibri\, sans-serif\;"><span style="font-size: 11pt\;">Leadership Excellence with a Winning Formula to Communicate Powerfully</span></span></strong><br />\n<span style="font-family: calibri\, sans-serif\;"><span style="font-size: 11pt\;">with&nbsp\;</span></span>Jennifer H.G. Connelly\, PCC<br />\n&nbsp\;
LOCATION:Crossroads Regional Chamber of Commerce 440 West 84th Drive\, Merrillville Downstairs in the Laszlo & Popp Community Room
UID:e.897.4539
SEQUENCE:3
DTSTAMP:20260424T142745Z
URL:https://members.crossroadschamber.org/events/details/coffee-community-connections-4539
END:VEVENT

END:VCALENDAR
