BEGIN:VCALENDAR
VERSION:2.0
PRODID:-//ChamberMaster//Event Calendar 2.0//EN
METHOD:PUBLISH
X-PUBLISHED-TTL:P3D
REFRESH-INTERVAL:P3D
CALSCALE:GREGORIAN
BEGIN:VEVENT
DTSTART:20230330T130000Z
DTEND:20230330T140000Z
X-MICROSOFT-CDO-ALLDAYEVENT:FALSE
SUMMARY:Coffee\, Community & Connections
DESCRIPTION:Practice Makes Perfect Networking Event
X-ALT-DESC;FMTTYPE=text/html:<font face="arial\, sans-serif"><span style="font-size: 13.3333px\;">Practice Makes Perfect Networking Event</span></font><br />\n&nbsp\;<br />\n&nbsp\;
LOCATION:Crossroads Regional Chamber of Commerce 440 West 84th Drive\, Merrillville Downstairs in the Laszlo & Popp Community Room
UID:e.897.4578
SEQUENCE:3
DTSTAMP:20260424T054315Z
URL:https://members.crossroadschamber.org/events/details/coffee-community-connections-4578
END:VEVENT

END:VCALENDAR
