BEGIN:VCALENDAR
VERSION:2.0
PRODID:-//ChamberMaster//Event Calendar 2.0//EN
METHOD:PUBLISH
X-PUBLISHED-TTL:P3D
REFRESH-INTERVAL:P3D
CALSCALE:GREGORIAN
BEGIN:VEVENT
DTSTART:20230427T130000Z
DTEND:20230427T140000Z
X-MICROSOFT-CDO-ALLDAYEVENT:FALSE
SUMMARY:Coffee\, Community & Connections
DESCRIPTION:Human Resource Panel
X-ALT-DESC;FMTTYPE=text/html:Human Resource Panel
LOCATION:Crossroads Regional Chamber of Commerce 440 West 84th Drive\, Merrillville Downstairs in the Laszlo & Popp Community Room
UID:e.897.4579
SEQUENCE:3
DTSTAMP:20260424T034803Z
URL:https://members.crossroadschamber.org/events/details/coffee-community-connections-4579
END:VEVENT

END:VCALENDAR
