BEGIN:VCALENDAR
VERSION:2.0
PRODID:-//ChamberMaster//Event Calendar 2.0//EN
METHOD:PUBLISH
X-PUBLISHED-TTL:P3D
REFRESH-INTERVAL:P3D
CALSCALE:GREGORIAN
BEGIN:VEVENT
DTSTART:20230629T130000Z
DTEND:20230629T140000Z
X-MICROSOFT-CDO-ALLDAYEVENT:FALSE
SUMMARY:Coffee\, Community & Connections
DESCRIPTION:Navigating Proposals and Grants with Legacy Foundation
X-ALT-DESC;FMTTYPE=text/html:Navigating Proposals and Grants with Legacy Foundation
LOCATION:Crossroads 440 West 84th Drive\, Merrillville Downstairs in the Laszlo & Popp Community Room
UID:e.897.4581
SEQUENCE:3
DTSTAMP:20260424T001922Z
URL:https://members.crossroadschamber.org/events/details/coffee-community-connections-4581
END:VEVENT

END:VCALENDAR
