BEGIN:VCALENDAR
VERSION:2.0
PRODID:-//ChamberMaster//Event Calendar 2.0//EN
METHOD:PUBLISH
X-PUBLISHED-TTL:P3D
REFRESH-INTERVAL:P3D
CALSCALE:GREGORIAN
BEGIN:VEVENT
DTSTART:20230727T130000Z
DTEND:20230727T140000Z
X-MICROSOFT-CDO-ALLDAYEVENT:FALSE
SUMMARY:Coffee\, Community & Connections
DESCRIPTION:Small Business Lending Panel\n\nSponsored by Purdue Federal Credit Union
X-ALT-DESC;FMTTYPE=text/html:Small Business Lending Panel<br />\nSponsored by Purdue Federal Credit Union
LOCATION:Crossroads 440 West 84th Drive\, Merrillville Downstairs in the Laszlo & Popp Community Room
UID:e.897.4582
SEQUENCE:3
DTSTAMP:20260423T223749Z
URL:https://members.crossroadschamber.org/events/details/coffee-community-connections-4582
END:VEVENT

END:VCALENDAR
