BEGIN:VCALENDAR
VERSION:2.0
PRODID:-//ChamberMaster//Event Calendar 2.0//EN
METHOD:PUBLISH
X-PUBLISHED-TTL:P3D
REFRESH-INTERVAL:P3D
CALSCALE:GREGORIAN
BEGIN:VEVENT
DTSTART:20230928T130000Z
DTEND:20230928T140000Z
X-MICROSOFT-CDO-ALLDAYEVENT:FALSE
SUMMARY:Coffee\, Community & Connections
DESCRIPTION:Healthcare Cost and Insurance
X-ALT-DESC;FMTTYPE=text/html:Healthcare Cost and Insurance
LOCATION:Crossroads 440 West 84th Drive\, Merrillville Downstairs in the Laszlo & Popp Community Room
UID:e.897.4584
SEQUENCE:3
DTSTAMP:20260423T202707Z
URL:https://members.crossroadschamber.org/events/details/coffee-community-connections-4584
END:VEVENT

END:VCALENDAR
