BEGIN:VCALENDAR
VERSION:2.0
PRODID:-//ChamberMaster//Event Calendar 2.0//EN
METHOD:PUBLISH
X-PUBLISHED-TTL:P3D
REFRESH-INTERVAL:P3D
CALSCALE:GREGORIAN
BEGIN:VEVENT
DTSTART:20260122T140000Z
DTEND:20260122T150000Z
X-MICROSOFT-CDO-ALLDAYEVENT:FALSE
SUMMARY:Coffee\, Community & Connections
DESCRIPTION:Coffee\, Community & Connections\n\nJoin us for coffee\, networking and hot topic presentation\n\n\n\nSally Saydshoev\, Executive Director\, Institute for Workforce Excellence\, Indiana Chamber of Commerce will help us bridge the gap between schools\, employers and the new graduation requirements.
X-ALT-DESC;FMTTYPE=text/html:Coffee\, Community &amp\; Connections<br />\nJoin us for coffee\, networking and hot topic presentation<br />\n<br />\nSally Saydshoev\, Executive Director\, Institute for Workforce Excellence\, Indiana Chamber of Commerce will help us bridge the gap between schools\, employers and the new graduation requirements.
LOCATION:The Dean & Barbara White Community Center 6600 Broadway\, Merrillville\, IN
UID:e.897.7246
SEQUENCE:3
DTSTAMP:20260419T181926Z
URL:https://members.crossroadschamber.org/events/details/coffee-community-connections-7246
END:VEVENT

END:VCALENDAR
