BEGIN:VCALENDAR
VERSION:2.0
PRODID:-//ChamberMaster//Event Calendar 2.0//EN
METHOD:PUBLISH
X-PUBLISHED-TTL:P3D
REFRESH-INTERVAL:P3D
CALSCALE:GREGORIAN
BEGIN:VEVENT
DTSTART;VALUE=DATE:20250508
DTEND;VALUE=DATE:20250513
TRANSP:TRANSPARENT
X-MICROSOFT-CDO-ALLDAYEVENT:TRUE
SUMMARY:Comfort Suites
DESCRIPTION:Happy Mother's day to all Mothers\n\nMembers Only Mothers are wellcome to book a room (by phone 219 736 9500 or Walk In) for $110/night with Tax minimum 2 nights (9th May and 10th May)
X-ALT-DESC;FMTTYPE=text/html:<strong>Happy Mother&#39\;s day to all Mothers<br />\nMembers Only Mothers are wellcome to book a room (by phone 219 736 9500 or Walk In) for $110/night with Tax minimum 2 nights (9th May and 10th May)&nbsp\;</strong>
LOCATION:Comfort Suites 1344 E 83rd Ave Merrillville IN 46410
UID:e.897.7090
SEQUENCE:3
DTSTAMP:20260420T064103Z
URL:https://members.crossroadschamber.org/events/details/comfort-suites-7090
END:VEVENT

END:VCALENDAR
