BEGIN:VCALENDAR
VERSION:2.0
PRODID:-//ChamberMaster//Event Calendar 2.0//EN
METHOD:PUBLISH
X-PUBLISHED-TTL:P3D
REFRESH-INTERVAL:P3D
CALSCALE:GREGORIAN
BEGIN:VEVENT
DTSTART:20240723T210000Z
DTEND:20240723T230000Z
X-MICROSOFT-CDO-ALLDAYEVENT:FALSE
SUMMARY:Coppolillo's Ribbon Cutting
DESCRIPTION:We are excited to invite everyone to welcome Coppolillo's Italian Steakhouse to Crown Point. Please join us at the Ribbon Cutting/ Open house.\n\n \n\nOpen house will be held from 4p-6p\n\nRibbon Cutting will take place at 4:30pm.\n\n \n\nWe look forward to seeing everyone and appreciate your support of our Crossroads Chamber members\, and Northwest Indiana's business Community.
X-ALT-DESC;FMTTYPE=text/html:We are excited to invite everyone to welcome Coppolillo&#39\;s Italian Steakhouse to Crown Point. Please join us at the Ribbon Cutting/ Open house.<br />\n&nbsp\;<br />\nOpen house will be held from 4p-6p<br />\nRibbon Cutting will take place at 4:30pm.<br />\n&nbsp\;<br />\nWe look forward to seeing everyone and appreciate your support of our Crossroads Chamber members\, and Northwest Indiana&rsquo\;s business Community.
LOCATION:1570 East Summit Crown Point\, IN 46307
UID:e.897.6435
SEQUENCE:3
DTSTAMP:20260421T040628Z
URL:https://members.crossroadschamber.org/events/details/coppolillo-s-ribbon-cutting-6435
END:VEVENT

END:VCALENDAR
