BEGIN:VCALENDAR
VERSION:2.0
PRODID:-//ChamberMaster//Event Calendar 2.0//EN
METHOD:PUBLISH
X-PUBLISHED-TTL:P3D
REFRESH-INTERVAL:P3D
CALSCALE:GREGORIAN
BEGIN:VEVENT
DTSTART:20210827T220000Z
DTEND:20210828T040000Z
X-MICROSOFT-CDO-ALLDAYEVENT:FALSE
SUMMARY:Corn Roast
DESCRIPTION:With presenting sponsor Purdue Federal Credit Union.\n\nCome enjoy food\, live music\, and beer!\n\n\n\nSchedule:\n\n5pm - 11pm Beer Garden\n\n5pm - 7pm DJ's at work\n\n5pm - 6pm kid's trivia and contests\n\n6pm - 7pm music for dancing \n\n8:30pm - 10:30pm PRX\n\n\n\nVendors:\n\nAll Souped Up\n\nAnnie's Kettle Creations\n\nBattista's Pizzeria\n\nBen's Soft Pretzels \n\nBub's Bowls\n\nBub's Spuds\n\nCarriage Court Pizza\n\nCorn-U-Copia\n\nCrown Point FOP Lodge #176\n\nJill's Sweet Treats\n\nKona Ice\n\nMaggie's Sweet Treats Ice Cream\n\nManta Latin Kitchen\n\nOne13North Kitchen & Bar\n\nPrime Steakhouse\n\nRedBarn SmokeHouse\n\nSouth Lake County Shrine Club \n\nSweet & Savory Delight\n\nThe Big Weiner\n\nThe Twisted Pretzel\n\nThirsty Vet\n\nTrue BBQ and Whiskey\n\n\n\nSponsors:\n\nCrown Point Library \n\nStrack & Van Til\n\nMcMahon & Associates CPA's PC\n\nMembers Source Credit Union \n\nPuntillo and Crane Orthodontics \n\nSparta Dome\n\nCertaPro Painters of Northwest Indiana\n\nTradewinds Services\n\nChick-fil-a\n\nBarbara Jean's Gifts & Gourmet\n\nCommercial In-Sites\n\nJump Start Novelties\n\nPeoples Bank\n\nPurdue Federal Credit Union\n\nTech Credit Union\n\nREGIONAL federal credit union
X-ALT-DESC;FMTTYPE=text/html:<span style="font-size:14px\;"><span style="font-family:arial\;">With presenting sponsor Purdue Federal Credit Union.<br />\nCome enjoy food\, live music\, and beer!<br />\n<br />\n<strong>Schedule:</strong><br />\n5pm - 11pm Beer Garden<br />\n5pm - 7pm DJ&#39\;s at work<br />\n5pm - 6pm kid&#39\;s trivia and contests<br />\n6pm - 7pm music for dancing&nbsp\;<br />\n8:30pm - 10:30pm PRX</span><br />\n<br />\n<strong>Vendors:</strong><br />\nAll Souped Up<br />\nAnnie&#39\;s Kettle Creations<br />\nBattista&#39\;s Pizzeria<br />\nBen&#39\;s Soft Pretzels&nbsp\;<br />\nBub&#39\;s Bowls<br />\nBub&#39\;s Spuds<br />\nCarriage Court Pizza<br />\nCorn-U-Copia<br />\nCrown Point FOP Lodge #176<br />\nJill&#39\;s Sweet Treats<br />\nKona Ice<br />\nMaggie&#39\;s Sweet Treats Ice Cream<br />\nManta Latin Kitchen<br />\nOne13North Kitchen &amp\; Bar<br />\nPrime Steakhouse<br />\nRedBarn SmokeHouse<br />\nSouth Lake County Shrine Club&nbsp\;<br />\nSweet &amp\; Savory Delight<br />\nThe Big Weiner<br />\nThe Twisted Pretzel<br />\nThirsty Vet<br />\nTrue BBQ and Whiskey<br />\n<br />\n<strong>Sponsors:</strong><br />\nCrown Point Library&nbsp\;<br />\nStrack &amp\; Van Til<br />\nMcMahon &amp\; Associates CPA&#39\;s PC<br />\nMembers Source Credit Union&nbsp\;<br />\nPuntillo and Crane Orthodontics&nbsp\;</span><br />\nSparta Dome<br />\nCertaPro Painters of Northwest Indiana<br />\nTradewinds Services<br />\nChick-fil-a<br />\nBarbara Jean&#39\;s Gifts &amp\; Gourmet<br />\nCommercial In-Sites<br />\nJump Start Novelties<br />\nPeoples Bank<br />\nPurdue Federal Credit Union<br />\nTech Credit Union<br />\nREGIONAL federal credit union&nbsp\;&nbsp\;
LOCATION:Franciscan Health Pavilion at Bulldog Park 183 South West Street\, Crown Point\, Indiana
UID:e.897.4402
SEQUENCE:3
DTSTAMP:20260425T153222Z
URL:https://members.crossroadschamber.org/events/details/corn-roast-4402
END:VEVENT

END:VCALENDAR
