BEGIN:VCALENDAR
VERSION:2.0
PRODID:-//ChamberMaster//Event Calendar 2.0//EN
METHOD:PUBLISH
X-PUBLISHED-TTL:P3D
REFRESH-INTERVAL:P3D
CALSCALE:GREGORIAN
BEGIN:VEVENT
DTSTART:20210828T170000Z
DTEND:20210829T040000Z
X-MICROSOFT-CDO-ALLDAYEVENT:FALSE
SUMMARY:Corn Roast
DESCRIPTION:With presenting sponsor Purdue Federal Credit Union.\n\nCome enjoy food\, live music\, and beer!\n\n\n\nSchedule:\n\n2pm - 5pm music with 5 Star DJ\n\n4pm - 11pm Beer Garden\n\n6pm - 7pm Jack Cunningham - acoustic\n\n7:30pm - 10:30pm Sticky Scissors\n\n\n\nVendors:\n\nAll Souped Up\n\nAnnie's Kettle Creations\n\nBattista's Pizzeria\n\nBen's Soft Pretzels \n\nBub's Bowls\n\nBub's Spuds\n\nCarriage Court Pizza\n\nCorn-U-Copia\n\nCrown Point FOP Lodge #176\n\nJill's Sweet Treats\n\nKona Ice\n\nMaggie's Sweet Treats Ice Cream\n\nManta Latin Kitchen\n\nOne13North Kitchen & Bar\n\nPrime Steakhouse\n\nRedBarn SmokeHouse\n\nSouth lake County Shrine Club \n\nSweet & Savory Delights\n\nThe Big Weiner\n\nThe Twist Pretzel\n\nThirsty Vet\n\nTrue BBQ and Whiskey\n\n\n\nSponsors:\n\nCrown Point Library \n\nStrack & Van Til\n\nMcMahon & Associates CPA's PC\n\nMembers Source Credit Union\n\nPuntillo and Crane Orthodontics \n\nSparta Dome\n\nCertaPro Painters of Northwest Indiana\n\nBarbara Jean's Gifts and Gourmet\n\nChick-fil-A\n\nCommercial In-Sites\n\nJump Start Novelties\n\nPeoples Bank\n\nPurdue Federal Credit Union\n\nREGIONAL federal credit union\n\nTech Credit Union\n\nChick-fil-a\n\nTradewinds Services
X-ALT-DESC;FMTTYPE=text/html:<span style="font-size: 14px\; font-family: arial\;">With presenting sponsor Purdue Federal Credit Union.<br />\nCome enjoy food\, live music\, and beer!<br />\n<br />\n<strong>Schedule:</strong><br />\n2pm - 5pm music with 5 Star DJ<br />\n4pm - 11pm Beer Garden<br />\n6pm - 7pm Jack Cunningham - acoustic<br />\n7:30pm - 10:30pm Sticky Scissors</span><br />\n<br style="font-size: 14px\;" />\n<strong style="font-size: 14px\;">Vendors:</strong><br style="font-size: 14px\;" />\n<span style="font-size: 14px\;">All Souped Up</span><br style="font-size: 14px\;" />\n<span style="font-size: 14px\;">Annie&#39\;s Kettle Creations<br />\nBattista&#39\;s Pizzeria</span><br style="font-size: 14px\;" />\n<span style="font-size: 14px\;">Ben&#39\;s Soft Pretzels&nbsp\;</span><br style="font-size: 14px\;" />\n<span style="font-size: 14px\;">Bub&#39\;s Bowls</span><br style="font-size: 14px\;" />\n<span style="font-size: 14px\;">Bub&#39\;s Spuds</span><br style="font-size: 14px\;" />\n<span style="font-size: 14px\;">Carriage Court Pizza</span><br style="font-size: 14px\;" />\n<span style="font-size: 14px\;">Corn-U-Copia</span><br style="font-size: 14px\;" />\n<span style="font-size: 14px\;">Crown Point FOP Lodge #176</span><br style="font-size: 14px\;" />\n<span style="font-size: 14px\;">Jill&#39\;s Sweet Treats</span><br style="font-size: 14px\;" />\n<span style="font-size: 14px\;">Kona Ice</span><br style="font-size: 14px\;" />\n<span style="font-size: 14px\;">Maggie&#39\;s Sweet Treats Ice Cream<br />\nManta Latin Kitchen</span><br style="font-size: 14px\;" />\n<span style="font-size: 14px\;">One13North Kitchen &amp\; Bar<br />\nPrime Steakhouse<br />\nRedBarn SmokeHouse</span><br style="font-size: 14px\;" />\n<span style="font-size: 14px\;">South lake County Shrine Club&nbsp\;</span><br style="font-size: 14px\;" />\n<span style="font-size: 14px\;">Sweet &amp\; Savory Delights<br />\nThe Big Weiner<br />\nThe Twist Pretzel<br />\nThirsty Vet<br />\nTrue BBQ and Whiskey<br />\n<br />\n<strong>Sponsors:</strong></span><br />\nCrown Point Library&nbsp\;<br />\nStrack &amp\; Van Til<br />\nMcMahon &amp\; Associates CPA&#39\;s PC<br />\nMembers Source Credit Union<br />\nPuntillo and Crane Orthodontics&nbsp\;<br />\nSparta Dome<br />\nCertaPro Painters of Northwest Indiana<br />\nBarbara Jean&#39\;s Gifts and Gourmet<br />\nChick-fil-A<br />\nCommercial In-Sites<br />\nJump Start Novelties<br />\nPeoples Bank<br />\nPurdue Federal Credit Union<br />\nREGIONAL federal credit union<br />\nTech Credit Union<br />\nChick-fil-a<br />\nTradewinds Services
LOCATION:Bulldog Park Crown Point\, Indiana Franciscan Health Pavilion at Bulldog Park 183 South West Street\, Crown Point\, Indiana
UID:e.897.4403
SEQUENCE:3
DTSTAMP:20260425T153222Z
URL:https://members.crossroadschamber.org/events/details/corn-roast-4403
END:VEVENT

END:VCALENDAR
