BEGIN:VCALENDAR
VERSION:2.0
PRODID:-//ChamberMaster//Event Calendar 2.0//EN
METHOD:PUBLISH
X-PUBLISHED-TTL:P3D
REFRESH-INTERVAL:P3D
CALSCALE:GREGORIAN
BEGIN:VEVENT
DTSTART:20260415T133000Z
DTEND:20260415T143000Z
X-MICROSOFT-CDO-ALLDAYEVENT:FALSE
SUMMARY:Corn Roast Committee
DESCRIPTION:Corn Roast Committee Meeting
X-ALT-DESC;FMTTYPE=text/html:Corn Roast Committee Meeting
LOCATION:Crossroads Chamber 440 W 84th Dr Merrillville
UID:e.897.7310
SEQUENCE:3
DTSTAMP:20260419T144518Z
URL:https://members.crossroadschamber.org/events/details/corn-roast-committee-04-15-2026-7310
END:VEVENT

END:VCALENDAR
