BEGIN:VCALENDAR
VERSION:2.0
PRODID:-//ChamberMaster//Event Calendar 2.0//EN
METHOD:PUBLISH
X-PUBLISHED-TTL:P3D
REFRESH-INTERVAL:P3D
CALSCALE:GREGORIAN
BEGIN:VEVENT
DTSTART:20230215T143000Z
DTEND:20230215T153000Z
X-MICROSOFT-CDO-ALLDAYEVENT:FALSE
SUMMARY:Corn Roast Committee Meeting
DESCRIPTION:
X-ALT-DESC;FMTTYPE=text/html:
LOCATION:
UID:e.897.4869
SEQUENCE:3
DTSTAMP:20260424T090442Z
URL:https://members.crossroadschamber.org/events/details/corn-roast-committee-meeting-02-15-2023-4869
END:VEVENT

END:VCALENDAR
