BEGIN:VCALENDAR
VERSION:2.0
PRODID:-//ChamberMaster//Event Calendar 2.0//EN
METHOD:PUBLISH
X-PUBLISHED-TTL:P3D
REFRESH-INTERVAL:P3D
CALSCALE:GREGORIAN
BEGIN:VEVENT
DTSTART:20240717T133000Z
DTEND:20240717T143000Z
X-MICROSOFT-CDO-ALLDAYEVENT:FALSE
SUMMARY:Corn Roast Committee Meeting
DESCRIPTION:The Corn Roast is a 2 day event held May 31 and June 1 at Bulldog Park in Crown Point.  This Committee helps choose the entertainment\, helps with sponsorships and recruits servers for the beer garden.
X-ALT-DESC;FMTTYPE=text/html:<p>The Corn Roast is a 2 day event held May 31 and June 1 at Bulldog Park in Crown Point.&nbsp\; This Committee helps choose the entertainment\, helps with sponsorships and recruits servers for the beer garden.&nbsp\;&nbsp\;</p>\n
LOCATION:Crossroads Chamber 440 W 84th Dr Merrillville
UID:e.897.6051
SEQUENCE:3
DTSTAMP:20260421T040855Z
URL:https://members.crossroadschamber.org/events/details/corn-roast-committee-meeting-06-19-2024-6051
END:VEVENT

END:VCALENDAR
