BEGIN:VCALENDAR
VERSION:2.0
PRODID:-//ChamberMaster//Event Calendar 2.0//EN
METHOD:PUBLISH
X-PUBLISHED-TTL:P3D
REFRESH-INTERVAL:P3D
CALSCALE:GREGORIAN
BEGIN:VEVENT
DTSTART;VALUE=DATE:20210827
DTEND;VALUE=DATE:20210828
TRANSP:TRANSPARENT
X-MICROSOFT-CDO-ALLDAYEVENT:TRUE
SUMMARY:Corn Roast Registration / Sponsorship
DESCRIPTION:Sign up to be a food vendor or a sponsor!
X-ALT-DESC;FMTTYPE=text/html:Sign up to be a food vendor or a sponsor!
LOCATION:Bulldog Park
UID:e.897.4416
SEQUENCE:3
DTSTAMP:20260425T153328Z
URL:https://members.crossroadschamber.org/events/details/corn-roast-registration-sponsorship-4416
END:VEVENT

END:VCALENDAR
