BEGIN:VCALENDAR
VERSION:2.0
PRODID:-//ChamberMaster//Event Calendar 2.0//EN
METHOD:PUBLISH
X-PUBLISHED-TTL:P3D
REFRESH-INTERVAL:P3D
CALSCALE:GREGORIAN
BEGIN:VEVENT
DTSTART;VALUE=DATE:20220603
DTEND;VALUE=DATE:20220604
TRANSP:TRANSPARENT
X-MICROSOFT-CDO-ALLDAYEVENT:TRUE
SUMMARY:Corn Roast Sponsorship and Vendor Registration
DESCRIPTION:
X-ALT-DESC;FMTTYPE=text/html:<br />\n&nbsp\;
LOCATION:
UID:e.897.4482
SEQUENCE:3
DTSTAMP:20260424T210532Z
URL:https://members.crossroadschamber.org/events/details/corn-roast-sponsorship-and-vendor-registration-4482
END:VEVENT

END:VCALENDAR
