BEGIN:VCALENDAR
VERSION:2.0
PRODID:-//ChamberMaster//Event Calendar 2.0//EN
METHOD:PUBLISH
X-PUBLISHED-TTL:P3D
REFRESH-INTERVAL:P3D
CALSCALE:GREGORIAN
BEGIN:VEVENT
DTSTART;VALUE=DATE:20230602
DTEND;VALUE=DATE:20230604
TRANSP:TRANSPARENT
X-MICROSOFT-CDO-ALLDAYEVENT:TRUE
SUMMARY:Corn Roast Sponsorship and Vendor Registration
DESCRIPTION:Crossroads Regional Chamber of Commerce\n\nMark your calendars for this 2 day event kicking off the summer in the Region.
X-ALT-DESC;FMTTYPE=text/html:Crossroads Regional Chamber of Commerce<br />\nMark your calendars for this 2 day event kicking off the summer in the Region.<br />\n&nbsp\;
LOCATION:Bulldog Park 183 S West St Crown Point\, IN 46307
UID:e.897.4881
SEQUENCE:3
DTSTAMP:20260424T002100Z
URL:https://members.crossroadschamber.org/events/details/corn-roast-sponsorship-and-vendor-registration-4881
END:VEVENT

END:VCALENDAR
