BEGIN:VCALENDAR
VERSION:2.0
PRODID:-//ChamberMaster//Event Calendar 2.0//EN
METHOD:PUBLISH
X-PUBLISHED-TTL:P3D
REFRESH-INTERVAL:P3D
CALSCALE:GREGORIAN
BEGIN:VEVENT
DTSTART:20260509T180000Z
DTEND:20260510T020000Z
X-MICROSOFT-CDO-ALLDAYEVENT:FALSE
SUMMARY:Cornhole Tournament Fundraiser
DESCRIPTION:Lerner & Rowe's annual Cornhole Tournament brings together community members from near and far for a day filled with friendly competition\, food\, and FUN all while raising funds for our non-profit foundation\, Lerner & Rowe Gives Back.\n\nEach year\, our foundation donates hundreds of thousands of dollars back to the community through charitable initiatives\, sponsorships\, and special events. \n\nIn 2025 alone\, we were able to donate over $2\,000\,000 throughout communities in Arizona\, Indiana\, Illinois\, Nevada\, and New Mexico.\n\nOur contribution to communities and organizations within Northwest Indiana and Chicagoland exceeded $200\,000 last year. 100% of funds raised from this event through team registrations\, vendors\, and sponsorships will go directly back into the community.\n\n \n\n\n\n\n\nWhen you participate in this year's event\, you will be helping Lerner & Rowe Gives Back:\n\n\n	Donate over 1\,500 backpacks filled with school supplies to children in need \n	Donate over 1\,500 turkeys and a full Thanksgiving meal to families in need \n	Serve over 30 local non-profits\, schools\, and police departments through various forms of donations \n	Further our mission of making a difference in the lives of those in need
X-ALT-DESC;FMTTYPE=text/html:<div>\n<div>\n<p>Lerner &amp\; Rowe&rsquo\;s annual Cornhole Tournament brings together community members from near and far for a day filled with friendly competition\, food\, and FUN all while raising funds for our non-profit foundation\, Lerner &amp\; Rowe Gives Back.</p>\n\n<p>Each year\, our foundation donates hundreds of thousands of dollars back to the community through charitable initiatives\, sponsorships\, and special events.&nbsp\;</p>\n\n<p>In 2025 alone\, we were able to&nbsp\;<strong>donate over $2\,000\,000</strong>&nbsp\;throughout communities in Arizona\, Indiana\, Illinois\, Nevada\, and New Mexico.</p>\n\n<p>Our contribution to communities and organizations within Northwest Indiana and Chicagoland exceeded $200\,000 last year. 100% of funds raised from this event through team registrations\, vendors\, and sponsorships will go directly back into the community.<br />\n&nbsp\;</p>\n</div>\n</div>\n\n<div>\n<div>\n<p>When you participate in this year&rsquo\;s event\, you will be helping Lerner &amp\; Rowe Gives Back:</p>\n\n<ul>\n	<li>Donate over 1\,500 backpacks filled with school supplies to children in need&nbsp\;</li>\n	<li>Donate over 1\,500 turkeys and a full Thanksgiving meal to families in need&nbsp\;</li>\n	<li>Serve over 30 local non-profits\, schools\, and police departments through various forms of donations&nbsp\;</li>\n	<li>Further our mission of making a difference in the lives of those in need</li>\n</ul>\n</div>\n</div>\n
LOCATION:Bulldog Park 183 S West Street Crown Point\, IN 46307
UID:e.897.7364
SEQUENCE:3
DTSTAMP:20260419T163211Z
URL:https://members.crossroadschamber.org/events/details/cornhole-tournament-fundraiser-7364
END:VEVENT

END:VCALENDAR
