BEGIN:VCALENDAR
VERSION:2.0
PRODID:-//ChamberMaster//Event Calendar 2.0//EN
METHOD:PUBLISH
X-PUBLISHED-TTL:P3D
REFRESH-INTERVAL:P3D
CALSCALE:GREGORIAN
BEGIN:VEVENT
DTSTART:20220517T170000Z
DTEND:20220517T230000Z
X-MICROSOFT-CDO-ALLDAYEVENT:FALSE
SUMMARY:"Cover All Your Bases" Business Expo 2022 Registration and Sponsorship
DESCRIPTION:
X-ALT-DESC;FMTTYPE=text/html:<div>&nbsp\;</div>\n<br />\n<br />\n&nbsp\;
LOCATION:U.S. Steel Yard Home of the RailCats
UID:e.897.4467
SEQUENCE:3
DTSTAMP:20260424T225808Z
URL:https://members.crossroadschamber.org/events/details/cover-all-your-bases-business-expo-2022-registration-and-sponsorship-4467
END:VEVENT

END:VCALENDAR
