BEGIN:VCALENDAR
VERSION:2.0
PRODID:-//ChamberMaster//Event Calendar 2.0//EN
METHOD:PUBLISH
X-PUBLISHED-TTL:P3D
REFRESH-INTERVAL:P3D
CALSCALE:GREGORIAN
BEGIN:VEVENT
DTSTART:20250520T180000Z
DTEND:20250520T230000Z
X-MICROSOFT-CDO-ALLDAYEVENT:FALSE
SUMMARY:Crossroads Business Expo
DESCRIPTION:Work Smarter Not Harder is this year's theme of the annual Crossroads Business Expo!  Secure your table today!  Be sure to register for the Monthly Membership Program too!
X-ALT-DESC;FMTTYPE=text/html:Work Smarter Not Harder is this year&#39\;s theme of the annual Crossroads Business Expo!&nbsp\; Secure your table today!&nbsp\; Be sure to register for the Monthly Membership Program too!&nbsp\;&nbsp\;
LOCATION:Dean & Barbara White Community Center 6600 Broadway Merrillville Expo - enter through Main Entrance on east side of building (Broadway)
UID:e.897.6604
SEQUENCE:3
DTSTAMP:20260420T064855Z
URL:https://members.crossroadschamber.org/events/details/crossroads-business-expo-6604
END:VEVENT

END:VCALENDAR
