BEGIN:VCALENDAR
VERSION:2.0
PRODID:-//ChamberMaster//Event Calendar 2.0//EN
METHOD:PUBLISH
X-PUBLISHED-TTL:P3D
REFRESH-INTERVAL:P3D
CALSCALE:GREGORIAN
BEGIN:VEVENT
DTSTART:20250909T131500Z
DTEND:20250909T150000Z
X-MICROSOFT-CDO-ALLDAYEVENT:FALSE
SUMMARY:Crossroads Chamber & CWI Breakfast - Dr Katie Jenner\, Indiana Secretary of Education
DESCRIPTION:Join us in hearing from Indiana's first Secretary of Education\, Dr Katie Jenner as she provides us with the new high school graduation requirements and their impact on our local businesses and workforce.
X-ALT-DESC;FMTTYPE=text/html:Join us in hearing from Indiana&#39\;s first Secretary of Education\, Dr Katie Jenner as she provides us with the new high school graduation requirements and their impact on our local businesses and workforce.
LOCATION:South Shore Convention & Visitors Authority 7770 Corrine Dr Hammond\, IN
UID:e.897.7099
SEQUENCE:3
DTSTAMP:20260419T233623Z
URL:https://members.crossroadschamber.org/events/details/crossroads-chamber-cwi-breakfast-dr-katie-jenner-indiana-secretary-of-education-7099
END:VEVENT

END:VCALENDAR
