BEGIN:VCALENDAR
VERSION:2.0
PRODID:-//ChamberMaster//Event Calendar 2.0//EN
METHOD:PUBLISH
X-PUBLISHED-TTL:P3D
REFRESH-INTERVAL:P3D
CALSCALE:GREGORIAN
BEGIN:VEVENT
DTSTART:20210817T161500Z
DTEND:20210817T180000Z
X-MICROSOFT-CDO-ALLDAYEVENT:FALSE
SUMMARY:Crossroads Chamber Monthly Luncheon
DESCRIPTION:Our guest speaker will be Matt Doyle\, President and CEO of Methodist Hospital.
X-ALT-DESC;FMTTYPE=text/html:Our guest speaker will be Matt Doyle\, President and CEO of Methodist Hospital.
LOCATION:Gamba Ristorante 455 East 84th Drive Merrillville\, IN 46410
UID:e.897.4404
SEQUENCE:3
DTSTAMP:20260425T154823Z
URL:https://members.crossroadschamber.org/events/details/crossroads-chamber-monthly-luncheon-4404
END:VEVENT

END:VCALENDAR
