BEGIN:VCALENDAR
VERSION:2.0
PRODID:-//ChamberMaster//Event Calendar 2.0//EN
METHOD:PUBLISH
X-PUBLISHED-TTL:P3D
REFRESH-INTERVAL:P3D
CALSCALE:GREGORIAN
BEGIN:VEVENT
DTSTART:20210921T161500Z
DTEND:20210921T180000Z
X-MICROSOFT-CDO-ALLDAYEVENT:FALSE
SUMMARY:Crossroads Chamber Monthly Luncheon
DESCRIPTION:We will be joined by Joy Thompkin and Carol Podolak\, Bnutty\, LLC\, co-owners.  They will share their journey of starting a business and how they took Bnutty\, LLC sales nationally.
X-ALT-DESC;FMTTYPE=text/html:We will be joined by Joy Thompkin and Carol Podolak\, Bnutty\, LLC\, co-owners.&nbsp\; They will share their journey of starting a business and how they took Bnutty\, LLC sales nationally.
LOCATION:The Grand Catering & Events (formerly Maki Ballroom) main level 1 Court House Square Crown Point\, IN 46307
UID:e.897.4425
SEQUENCE:3
DTSTAMP:20260425T134518Z
URL:https://members.crossroadschamber.org/events/details/crossroads-chamber-monthly-luncheon-4425
END:VEVENT

END:VCALENDAR
