BEGIN:VCALENDAR
VERSION:2.0
PRODID:-//ChamberMaster//Event Calendar 2.0//EN
METHOD:PUBLISH
X-PUBLISHED-TTL:P3D
REFRESH-INTERVAL:P3D
CALSCALE:GREGORIAN
BEGIN:VEVENT
DTSTART:20211019T161500Z
DTEND:20211019T180000Z
X-MICROSOFT-CDO-ALLDAYEVENT:FALSE
SUMMARY:Crossroads Chamber Monthly Luncheon
DESCRIPTION:Guest speaker Frederick D. Payne\, Commissioner for the Indiana Department of Workforce Development\, will discuss the new job matching and career planning site Indiana launched\, The Hoosier Talent Network.
X-ALT-DESC;FMTTYPE=text/html:<span style="color: rgb(64\, 63\, 66)\; font-family: Arial\, Verdana\, Helvetica\, sans-serif\; font-size: 14px\; white-space: pre-wrap\; background-color: rgb(255\, 255\, 255)\;">Guest speaker Frederick D. Payne\, Commissioner for the Indiana Department of Workforce Development\, will discuss the new job matching and career planning site Indiana launched\, The Hoosier Talent Network.</span>
LOCATION:White Hawk Country Club 1001 White Hawk Drive Crown Point\, IN 46307
UID:e.897.4428
SEQUENCE:3
DTSTAMP:20260425T114639Z
URL:https://members.crossroadschamber.org/events/details/crossroads-chamber-monthly-luncheon-4428
END:VEVENT

END:VCALENDAR
