BEGIN:VCALENDAR
VERSION:2.0
PRODID:-//ChamberMaster//Event Calendar 2.0//EN
METHOD:PUBLISH
X-PUBLISHED-TTL:P3D
REFRESH-INTERVAL:P3D
CALSCALE:GREGORIAN
BEGIN:VEVENT
DTSTART:20240425T160000Z
DTEND:20240425T180000Z
X-MICROSOFT-CDO-ALLDAYEVENT:FALSE
SUMMARY:Crossroads Chamber - NWI Forum Lunch
DESCRIPTION:Crossroads Chamber/NWI Forum Lunch\n\n11:15 - 1:00pm\n\nFeaturing:    Vanessa Green Sinders\n\n                    President & CEO\n\n                    Indiana Chamber of Commerce
X-ALT-DESC;FMTTYPE=text/html:Crossroads Chamber/NWI Forum Lunch<br />\n11:15 - 1:00pm<br />\nFeaturing:&nbsp\; &nbsp\;&nbsp\;Vanessa Green Sinders<br />\n&nbsp\;&nbsp\;&nbsp\;&nbsp\;&nbsp\;&nbsp\;&nbsp\;&nbsp\;&nbsp\;&nbsp\;&nbsp\;&nbsp\;&nbsp\;&nbsp\;&nbsp\;&nbsp\;&nbsp\; &nbsp\; President &amp\; CEO<br />\n&nbsp\;&nbsp\;&nbsp\;&nbsp\;&nbsp\;&nbsp\;&nbsp\;&nbsp\;&nbsp\;&nbsp\;&nbsp\;&nbsp\;&nbsp\;&nbsp\;&nbsp\;&nbsp\;&nbsp\; &nbsp\; Indiana Chamber of Commerce
LOCATION:Purdue University Northwest - Westville - Dworkin Center US 421\, Westville\, IN
UID:e.897.5517
SEQUENCE:3
DTSTAMP:20260421T071600Z
URL:https://members.crossroadschamber.org/events/details/crossroads-chamber-nwi-forum-lunch-5517
END:VEVENT

END:VCALENDAR
