BEGIN:VCALENDAR
VERSION:2.0
PRODID:-//ChamberMaster//Event Calendar 2.0//EN
METHOD:PUBLISH
X-PUBLISHED-TTL:P3D
REFRESH-INTERVAL:P3D
CALSCALE:GREGORIAN
BEGIN:VEVENT
DTSTART:20260204T233000Z
DTEND:20260205T003000Z
X-MICROSOFT-CDO-ALLDAYEVENT:FALSE
SUMMARY:Crossroads Greece Trip Presentation
DESCRIPTION:Crossroads is going to Greece! \n\n\n\nCome and learn more at our our travel presentation on Wednesday\, February 4\,2026 at 5:30pm at the Chamber!
X-ALT-DESC;FMTTYPE=text/html:<em><span style="font-family: calibri\, sans-serif\;"><span style="font-size: 22px\;"><b>Crossroads is going to Greece!&nbsp\;</b><br />\n<br />\nCome and learn more at our our travel presentation on Wednesday\, February 4\,2026 at 5:30pm at the Chamber!&nbsp\;</span></span></em><br />\n&nbsp\;
LOCATION:Crossroads Chamber 440 W 84th Dr Merrillville\, IN 46410
UID:e.897.7350
SEQUENCE:3
DTSTAMP:20260419T182519Z
URL:https://members.crossroadschamber.org/events/details/crossroads-greece-trip-presentation-7350
END:VEVENT

END:VCALENDAR
