BEGIN:VCALENDAR
VERSION:2.0
PRODID:-//ChamberMaster//Event Calendar 2.0//EN
METHOD:PUBLISH
X-PUBLISHED-TTL:P3D
REFRESH-INTERVAL:P3D
CALSCALE:GREGORIAN
BEGIN:VEVENT
DTSTART:20240911T223000Z
DTEND:20240911T233000Z
X-MICROSOFT-CDO-ALLDAYEVENT:FALSE
SUMMARY:Crossroads Iceland Trip Presentation
DESCRIPTION:Join the Crossroads Chamber in Iceland from September 17   23\, 2025!  \n\nWe'll spend five nights discovering this amazing land of fire and ice\, a unique destination which offers pristine nature\, geysers\, geothermal pools\, waterfalls and wildlife\, breathtaking landscapes and vibrant culture deeply rooted in ancient heritage. Soak in the remarkable Blue Lagoon. Discover black sand beaches and rugged coastlines. Explore the cosmopolitan capital of Reykjavik with its old town center and famous church. \n\nTo learn more\, contact the Chamber at 219-769-8180 or Deann@crossroadschamber.org\, or attend our travel presentation on Wednesday\, September 11 at 5:30pm at the Chamber!
X-ALT-DESC;FMTTYPE=text/html:<strong><em><span style="font-family:calibri\,sans-serif\;"><span style="font-size:22px\;">Join the Crossroads Chamber in Iceland from September 17 &ndash\; 23\, 2025! &nbsp\;</span></span></em></strong><br />\n<em><span style="font-family:calibri\,sans-serif\;"><span style="font-size:22px\;">We&rsquo\;ll spend five nights discovering this amazing land of fire and ice\, a unique destination which offers pristine nature\, geysers\, geothermal pools\, waterfalls and wildlife\, breathtaking landscapes and vibrant culture deeply rooted in ancient heritage. Soak in the remarkable Blue Lagoon. Discover black sand beaches and rugged coastlines. Explore the cosmopolitan capital of Reykjavik with its old town center and famous church.&nbsp\;<br />\nTo learn more\, contact the Chamber at 219-769-8180 or Deann@crossroadschamber.org\, or attend our travel presentation on Wednesday\, September 11 at 5:30pm at the Chamber!&nbsp\;</span> </span></em>
LOCATION:Crossroads Chamber Office 440 W. 84th Dr. Merrillville\, IN 46410
UID:e.897.6462
SEQUENCE:3
DTSTAMP:20260420T194224Z
URL:https://members.crossroadschamber.org/events/details/crossroads-iceland-trip-presentation-6462
END:VEVENT

END:VCALENDAR
