BEGIN:VCALENDAR
VERSION:2.0
PRODID:-//ChamberMaster//Event Calendar 2.0//EN
METHOD:PUBLISH
X-PUBLISHED-TTL:P3D
REFRESH-INTERVAL:P3D
CALSCALE:GREGORIAN
BEGIN:VEVENT
DTSTART:20260206T183000Z
DTEND:20260206T233000Z
X-MICROSOFT-CDO-ALLDAYEVENT:FALSE
SUMMARY:Crossroads Pickleball Tournament
DESCRIPTION:Join us for our inaugural Pickleball Round Robin Tournament!  3 Divisions\, beginner\, intermediate and advanced.  Sign up as either an individual or a 2 man team.
X-ALT-DESC;FMTTYPE=text/html:Join us for our inaugural Pickleball Round Robin Tournament!&nbsp\; 3 Divisions\, beginner\, intermediate and advanced.&nbsp\; Sign up as either an individual or a 2 man team.&nbsp\;&nbsp\;
LOCATION:YMCA Sportscenter of Crown Point 1307 S Main Street Crown Point\, IN 46307
UID:e.897.7210
SEQUENCE:3
DTSTAMP:20260419T163714Z
URL:https://members.crossroadschamber.org/events/details/crossroads-pickleball-tournament-7210
END:VEVENT

END:VCALENDAR
